BEGIN:VCALENDAR
VERSION:2.0
PRODID:-//Compass Pointe Golf Courses - ECPv6.15.18//NONSGML v1.0//EN
CALSCALE:GREGORIAN
METHOD:PUBLISH
X-ORIGINAL-URL:https://www.compasspointegolf.com
X-WR-CALDESC:Events for Compass Pointe Golf Courses
REFRESH-INTERVAL;VALUE=DURATION:PT1H
X-Robots-Tag:noindex
X-PUBLISHED-TTL:PT1H
BEGIN:VTIMEZONE
TZID:America/New_York
BEGIN:DAYLIGHT
TZOFFSETFROM:-0500
TZOFFSETTO:-0400
TZNAME:EDT
DTSTART:20250309T070000
END:DAYLIGHT
BEGIN:STANDARD
TZOFFSETFROM:-0400
TZOFFSETTO:-0500
TZNAME:EST
DTSTART:20251102T060000
END:STANDARD
BEGIN:DAYLIGHT
TZOFFSETFROM:-0500
TZOFFSETTO:-0400
TZNAME:EDT
DTSTART:20260308T070000
END:DAYLIGHT
BEGIN:STANDARD
TZOFFSETFROM:-0400
TZOFFSETTO:-0500
TZNAME:EST
DTSTART:20261101T060000
END:STANDARD
BEGIN:DAYLIGHT
TZOFFSETFROM:-0500
TZOFFSETTO:-0400
TZNAME:EDT
DTSTART:20270314T070000
END:DAYLIGHT
BEGIN:STANDARD
TZOFFSETFROM:-0400
TZOFFSETTO:-0500
TZNAME:EST
DTSTART:20271107T060000
END:STANDARD
END:VTIMEZONE
BEGIN:VEVENT
DTSTART;TZID=America/New_York:20260630T170000
DTEND;TZID=America/New_York:20260630T193000
DTSTAMP:20260422T103007
CREATED:20260320T160512Z
LAST-MODIFIED:20260320T160512Z
UID:10000075-1782838800-1782847800@www.compasspointegolf.com
SUMMARY:Tuesday Night 6/30 SW
DESCRIPTION:Weekly Registration for the Tuesday Night Ladies League.\n \nIncludes:\n\nGreen Fee\nCart Fee\nPrize Fund
URL:https://www.compasspointegolf.com/events/tuesday-night-6-30-sw-2/
LOCATION:Compass Pointe Golf Courses\, 9010 Fort Smallwood Road\, Pasadena\, Maryland\, 21122
CATEGORIES:Leagues
ATTACH;FMTTYPE=image/jpeg:https://www.compasspointegolf.com/wp-content/uploads/sites/9660/2026/03/RHT-02042026.jpg
END:VEVENT
BEGIN:VEVENT
DTSTART;TZID=America/New_York:20260702T083000
DTEND;TZID=America/New_York:20260702T140000
DTSTAMP:20260422T103007
CREATED:20260326T155026Z
LAST-MODIFIED:20260326T155026Z
UID:10000122-1782981000-1783000800@www.compasspointegolf.com
SUMMARY:Thursday Morning League 7/2 SW
DESCRIPTION:Weekly fee for the Thursday Morning League\nReminders:\n\nPlease make sure names are legible and the scores are totaled.\nPlease turn in scorecards in the golf shop directly after your round.\nPACE OF PLAY: Please keep up with the group in front of you and play ready golf.\nCopy of the league rules can be found here.\n\nIncludes:\n\nGreen Fee\nCart Fee\nPrize Fund\n\n 
URL:https://www.compasspointegolf.com/events/thursday-morning-league-7-2-sw/
LOCATION:Compass Pointe Golf Courses\, 9010 Fort Smallwood Road\, Pasadena\, Maryland\, 21122
CATEGORIES:Leagues
ATTACH;FMTTYPE=image/jpeg:https://www.compasspointegolf.com/wp-content/uploads/sites/9660/2026/03/CP-MD-Logo-1.jpg
END:VEVENT
BEGIN:VEVENT
DTSTART;TZID=America/New_York:20260707T170000
DTEND;TZID=America/New_York:20260707T193000
DTSTAMP:20260422T103007
CREATED:20260320T142629Z
LAST-MODIFIED:20260320T142629Z
UID:10000069-1783443600-1783452600@www.compasspointegolf.com
SUMMARY:Tuesday Night 7/7 NE
DESCRIPTION:Weekly Registration for the Tuesday Night Ladies League.\n \nIncludes:\n\nGreen Fee\nCart Fee\nPrize Fund
URL:https://www.compasspointegolf.com/events/tuesday-night-7-7-ne/
LOCATION:Compass Pointe Golf Courses\, 9010 Fort Smallwood Road\, Pasadena\, Maryland\, 21122
CATEGORIES:Leagues
ATTACH;FMTTYPE=image/jpeg:https://www.compasspointegolf.com/wp-content/uploads/sites/9660/2026/03/RHT-02042026.jpg
END:VEVENT
BEGIN:VEVENT
DTSTART;TZID=America/New_York:20260709T083000
DTEND;TZID=America/New_York:20260709T140000
DTSTAMP:20260422T103007
CREATED:20260326T150730Z
LAST-MODIFIED:20260326T150746Z
UID:10000110-1783585800-1783605600@www.compasspointegolf.com
SUMMARY:Thursday Morning League 7/9 NE
DESCRIPTION:Weekly fee for the Thursday Morning League\nReminders:\n\nPlease make sure names are legible and the scores are totaled.\nPlease turn in scorecards in the golf shop directly after your round.\nPACE OF PLAY: Please keep up with the group in front of you and play ready golf.\nCopy of the league rules can be found here.\n\nIncludes:\n\nGreen Fee\nCart Fee\nPrize Fund\n\n 
URL:https://www.compasspointegolf.com/events/thursday-morning-league-7-9-ne/
LOCATION:Compass Pointe Golf Courses\, 9010 Fort Smallwood Road\, Pasadena\, Maryland\, 21122
CATEGORIES:Leagues
ATTACH;FMTTYPE=image/jpeg:https://www.compasspointegolf.com/wp-content/uploads/sites/9660/2026/03/CP-MD-Logo-1.jpg
END:VEVENT
BEGIN:VEVENT
DTSTART;TZID=America/New_York:20260714T170000
DTEND;TZID=America/New_York:20260714T193000
DTSTAMP:20260422T103007
CREATED:20260320T145000Z
LAST-MODIFIED:20260320T145000Z
UID:10000074-1784048400-1784057400@www.compasspointegolf.com
SUMMARY:Tuesday Night 7/14 SW
DESCRIPTION:Weekly Registration for the Tuesday Night Ladies League.\n \nIncludes:\n\nGreen Fee\nCart Fee\nPrize Fund
URL:https://www.compasspointegolf.com/events/tuesday-night-7-14-sw/
LOCATION:Compass Pointe Golf Courses\, 9010 Fort Smallwood Road\, Pasadena\, Maryland\, 21122
CATEGORIES:Leagues
ATTACH;FMTTYPE=image/jpeg:https://www.compasspointegolf.com/wp-content/uploads/sites/9660/2026/03/RHT-02042026.jpg
END:VEVENT
BEGIN:VEVENT
DTSTART;TZID=America/New_York:20260716T083000
DTEND;TZID=America/New_York:20260716T140000
DTSTAMP:20260422T103007
CREATED:20260326T155113Z
LAST-MODIFIED:20260326T155113Z
UID:10000123-1784190600-1784210400@www.compasspointegolf.com
SUMMARY:Thursday Morning League 7/16 SW
DESCRIPTION:Weekly fee for the Thursday Morning League\nReminders:\n\nPlease make sure names are legible and the scores are totaled.\nPlease turn in scorecards in the golf shop directly after your round.\nPACE OF PLAY: Please keep up with the group in front of you and play ready golf.\nCopy of the league rules can be found here.\n\nIncludes:\n\nGreen Fee\nCart Fee\nPrize Fund\n\n 
URL:https://www.compasspointegolf.com/events/thursday-morning-league-7-16-sw/
LOCATION:Compass Pointe Golf Courses\, 9010 Fort Smallwood Road\, Pasadena\, Maryland\, 21122
CATEGORIES:Leagues
ATTACH;FMTTYPE=image/jpeg:https://www.compasspointegolf.com/wp-content/uploads/sites/9660/2026/03/CP-MD-Logo-1.jpg
END:VEVENT
BEGIN:VEVENT
DTSTART;TZID=America/New_York:20260721T170000
DTEND;TZID=America/New_York:20260721T193000
DTSTAMP:20260422T103007
CREATED:20260320T152033Z
LAST-MODIFIED:20260320T152033Z
UID:10000081-1784653200-1784662200@www.compasspointegolf.com
SUMMARY:Tuesday Night 7/21 NE
DESCRIPTION:Weekly Registration for the Tuesday Night Ladies League.\n \nIncludes:\n\nGreen Fee\nCart Fee\nPrize Fund
URL:https://www.compasspointegolf.com/events/tuesday-night-7-21-ne/
LOCATION:Compass Pointe Golf Courses\, 9010 Fort Smallwood Road\, Pasadena\, Maryland\, 21122
CATEGORIES:Leagues
ATTACH;FMTTYPE=image/jpeg:https://www.compasspointegolf.com/wp-content/uploads/sites/9660/2026/03/RHT-02042026.jpg
END:VEVENT
BEGIN:VEVENT
DTSTART;TZID=America/New_York:20260723T083000
DTEND;TZID=America/New_York:20260723T140000
DTSTAMP:20260422T103007
CREATED:20260326T151058Z
LAST-MODIFIED:20260326T151058Z
UID:10000111-1784795400-1784815200@www.compasspointegolf.com
SUMMARY:Thursday Morning League 7/23 NE
DESCRIPTION:Weekly fee for the Thursday Morning League\nReminders:\n\nPlease make sure names are legible and the scores are totaled.\nPlease turn in scorecards in the golf shop directly after your round.\nPACE OF PLAY: Please keep up with the group in front of you and play ready golf.\nCopy of the league rules can be found here.\n\nIncludes:\n\nGreen Fee\nCart Fee\nPrize Fund\n\n 
URL:https://www.compasspointegolf.com/events/thursday-morning-league-7-23-ne/
LOCATION:Compass Pointe Golf Courses\, 9010 Fort Smallwood Road\, Pasadena\, Maryland\, 21122
CATEGORIES:Leagues
ATTACH;FMTTYPE=image/jpeg:https://www.compasspointegolf.com/wp-content/uploads/sites/9660/2026/03/CP-MD-Logo-1.jpg
END:VEVENT
BEGIN:VEVENT
DTSTART;TZID=America/New_York:20260728T170000
DTEND;TZID=America/New_York:20260728T193000
DTSTAMP:20260422T103007
CREATED:20260320T145708Z
LAST-MODIFIED:20260320T145708Z
UID:10000076-1785258000-1785267000@www.compasspointegolf.com
SUMMARY:Tuesday Night 7/28 SW
DESCRIPTION:Weekly Registration for the Tuesday Night Ladies League.\n \nIncludes:\n\nGreen Fee\nCart Fee\nPrize Fund
URL:https://www.compasspointegolf.com/events/tuesday-night-7-28-sw/
LOCATION:Compass Pointe Golf Courses\, 9010 Fort Smallwood Road\, Pasadena\, Maryland\, 21122
CATEGORIES:Leagues
ATTACH;FMTTYPE=image/jpeg:https://www.compasspointegolf.com/wp-content/uploads/sites/9660/2026/03/RHT-02042026.jpg
END:VEVENT
BEGIN:VEVENT
DTSTART;TZID=America/New_York:20260730T083000
DTEND;TZID=America/New_York:20260730T140000
DTSTAMP:20260422T103007
CREATED:20260326T155204Z
LAST-MODIFIED:20260326T155204Z
UID:10000124-1785400200-1785420000@www.compasspointegolf.com
SUMMARY:Thursday Morning League 7/30 SW
DESCRIPTION:Weekly fee for the Thursday Morning League\nReminders:\n\nPlease make sure names are legible and the scores are totaled.\nPlease turn in scorecards in the golf shop directly after your round.\nPACE OF PLAY: Please keep up with the group in front of you and play ready golf.\nCopy of the league rules can be found here.\n\nIncludes:\n\nGreen Fee\nCart Fee\nPrize Fund\n\n 
URL:https://www.compasspointegolf.com/events/thursday-morning-league-7-30-sw/
LOCATION:Compass Pointe Golf Courses\, 9010 Fort Smallwood Road\, Pasadena\, Maryland\, 21122
CATEGORIES:Leagues
ATTACH;FMTTYPE=image/jpeg:https://www.compasspointegolf.com/wp-content/uploads/sites/9660/2026/03/CP-MD-Logo-1.jpg
END:VEVENT
BEGIN:VEVENT
DTSTART;TZID=America/New_York:20260804T170000
DTEND;TZID=America/New_York:20260804T193000
DTSTAMP:20260422T103007
CREATED:20260320T152235Z
LAST-MODIFIED:20260320T152235Z
UID:10000082-1785862800-1785871800@www.compasspointegolf.com
SUMMARY:Tuesday Night 8/4 NE
DESCRIPTION:Weekly Registration for the Tuesday Night Ladies League.\n \nIncludes:\n\nGreen Fee\nCart Fee\nPrize Fund
URL:https://www.compasspointegolf.com/events/tuesday-night-8-4-ne/
LOCATION:Compass Pointe Golf Courses\, 9010 Fort Smallwood Road\, Pasadena\, Maryland\, 21122
CATEGORIES:Leagues
ATTACH;FMTTYPE=image/jpeg:https://www.compasspointegolf.com/wp-content/uploads/sites/9660/2026/03/RHT-02042026.jpg
END:VEVENT
BEGIN:VEVENT
DTSTART;TZID=America/New_York:20260806T083000
DTEND;TZID=America/New_York:20260806T140000
DTSTAMP:20260422T103007
CREATED:20260326T151149Z
LAST-MODIFIED:20260326T151149Z
UID:10000112-1786005000-1786024800@www.compasspointegolf.com
SUMMARY:Thursday Morning League 8/6 NE
DESCRIPTION:Weekly fee for the Thursday Morning League\nReminders:\n\nPlease make sure names are legible and the scores are totaled.\nPlease turn in scorecards in the golf shop directly after your round.\nPACE OF PLAY: Please keep up with the group in front of you and play ready golf.\nCopy of the league rules can be found here.\n\nIncludes:\n\nGreen Fee\nCart Fee\nPrize Fund\n\n 
URL:https://www.compasspointegolf.com/events/thursday-morning-league-8-6-ne/
LOCATION:Compass Pointe Golf Courses\, 9010 Fort Smallwood Road\, Pasadena\, Maryland\, 21122
CATEGORIES:Leagues
ATTACH;FMTTYPE=image/jpeg:https://www.compasspointegolf.com/wp-content/uploads/sites/9660/2026/03/CP-MD-Logo-1.jpg
END:VEVENT
BEGIN:VEVENT
DTSTART;TZID=America/New_York:20260811T170000
DTEND;TZID=America/New_York:20260811T193000
DTSTAMP:20260422T103007
CREATED:20260320T145949Z
LAST-MODIFIED:20260320T145949Z
UID:10000077-1786467600-1786476600@www.compasspointegolf.com
SUMMARY:Tuesday Night 8/11 SW
DESCRIPTION:Weekly Registration for the Tuesday Night Ladies League.\n \nIncludes:\n\nGreen Fee\nCart Fee\nPrize Fund
URL:https://www.compasspointegolf.com/events/tuesday-night-8-11-sw/
LOCATION:Compass Pointe Golf Courses\, 9010 Fort Smallwood Road\, Pasadena\, Maryland\, 21122
CATEGORIES:Leagues
ATTACH;FMTTYPE=image/jpeg:https://www.compasspointegolf.com/wp-content/uploads/sites/9660/2026/03/RHT-02042026.jpg
END:VEVENT
BEGIN:VEVENT
DTSTART;TZID=America/New_York:20260813T083000
DTEND;TZID=America/New_York:20260813T140000
DTSTAMP:20260422T103007
CREATED:20260326T155316Z
LAST-MODIFIED:20260326T155316Z
UID:10000125-1786609800-1786629600@www.compasspointegolf.com
SUMMARY:Thursday Morning League 8-13 SW
DESCRIPTION:Weekly fee for the Thursday Morning League\nReminders:\n\nPlease make sure names are legible and the scores are totaled.\nPlease turn in scorecards in the golf shop directly after your round.\nPACE OF PLAY: Please keep up with the group in front of you and play ready golf.\nCopy of the league rules can be found here.\n\nIncludes:\n\nGreen Fee\nCart Fee\nPrize Fund\n\n 
URL:https://www.compasspointegolf.com/events/thursday-morning-league-8-13-sw/
LOCATION:Compass Pointe Golf Courses\, 9010 Fort Smallwood Road\, Pasadena\, Maryland\, 21122
CATEGORIES:Leagues
ATTACH;FMTTYPE=image/jpeg:https://www.compasspointegolf.com/wp-content/uploads/sites/9660/2026/03/CP-MD-Logo-1.jpg
END:VEVENT
BEGIN:VEVENT
DTSTART;TZID=America/New_York:20260818T170000
DTEND;TZID=America/New_York:20260818T193000
DTSTAMP:20260422T103007
CREATED:20260320T152659Z
LAST-MODIFIED:20260320T152659Z
UID:10000083-1787072400-1787081400@www.compasspointegolf.com
SUMMARY:Tuesday Night 8/18 NE
DESCRIPTION:Weekly Registration for the Tuesday Night Ladies League.\n \nIncludes:\n\nGreen Fee\nCart Fee\nPrize Fund
URL:https://www.compasspointegolf.com/events/tuesday-night-8-18-ne/
LOCATION:Compass Pointe Golf Courses\, 9010 Fort Smallwood Road\, Pasadena\, Maryland\, 21122
CATEGORIES:Leagues
ATTACH;FMTTYPE=image/jpeg:https://www.compasspointegolf.com/wp-content/uploads/sites/9660/2026/03/RHT-02042026.jpg
END:VEVENT
BEGIN:VEVENT
DTSTART;TZID=America/New_York:20260820T083000
DTEND;TZID=America/New_York:20260820T140000
DTSTAMP:20260422T103007
CREATED:20260326T151327Z
LAST-MODIFIED:20260326T151327Z
UID:10000113-1787214600-1787234400@www.compasspointegolf.com
SUMMARY:Thursday Morning League 8/20 NE
DESCRIPTION:Weekly fee for the Thursday Morning League\nReminders:\n\nPlease make sure names are legible and the scores are totaled.\nPlease turn in scorecards in the golf shop directly after your round.\nPACE OF PLAY: Please keep up with the group in front of you and play ready golf.\nCopy of the league rules can be found here.\n\nIncludes:\n\nGreen Fee\nCart Fee\nPrize Fund\n\n 
URL:https://www.compasspointegolf.com/events/thursday-morning-league-8-20-ne/
LOCATION:Compass Pointe Golf Courses\, 9010 Fort Smallwood Road\, Pasadena\, Maryland\, 21122
CATEGORIES:Leagues
ATTACH;FMTTYPE=image/jpeg:https://www.compasspointegolf.com/wp-content/uploads/sites/9660/2026/03/CP-MD-Logo-1.jpg
END:VEVENT
BEGIN:VEVENT
DTSTART;TZID=America/New_York:20260825T170000
DTEND;TZID=America/New_York:20260825T193000
DTSTAMP:20260422T103007
CREATED:20260320T150615Z
LAST-MODIFIED:20260320T150615Z
UID:10000078-1787677200-1787686200@www.compasspointegolf.com
SUMMARY:Tuesday Night 8/25 SW
DESCRIPTION:Weekly Registration for the Tuesday Night Ladies League.\n \nIncludes:\n\nGreen Fee\nCart Fee\nPrize Fund
URL:https://www.compasspointegolf.com/events/tuesday-night-8-25-sw/
LOCATION:Compass Pointe Golf Courses\, 9010 Fort Smallwood Road\, Pasadena\, Maryland\, 21122
CATEGORIES:Leagues
ATTACH;FMTTYPE=image/jpeg:https://www.compasspointegolf.com/wp-content/uploads/sites/9660/2026/03/RHT-02042026.jpg
END:VEVENT
BEGIN:VEVENT
DTSTART;TZID=America/New_York:20260827T083000
DTEND;TZID=America/New_York:20260827T140000
DTSTAMP:20260422T103007
CREATED:20260326T155400Z
LAST-MODIFIED:20260326T155400Z
UID:10000126-1787819400-1787839200@www.compasspointegolf.com
SUMMARY:Thursday Morning League 8/27 SW
DESCRIPTION:Weekly fee for the Thursday Morning League\nReminders:\n\nPlease make sure names are legible and the scores are totaled.\nPlease turn in scorecards in the golf shop directly after your round.\nPACE OF PLAY: Please keep up with the group in front of you and play ready golf.\nCopy of the league rules can be found here.\n\nIncludes:\n\nGreen Fee\nCart Fee\nPrize Fund\n\n 
URL:https://www.compasspointegolf.com/events/thursday-morning-league-8-27-sw/
LOCATION:Compass Pointe Golf Courses\, 9010 Fort Smallwood Road\, Pasadena\, Maryland\, 21122
CATEGORIES:Leagues
ATTACH;FMTTYPE=image/jpeg:https://www.compasspointegolf.com/wp-content/uploads/sites/9660/2026/03/CP-MD-Logo-1.jpg
END:VEVENT
BEGIN:VEVENT
DTSTART;TZID=America/New_York:20260901T170000
DTEND;TZID=America/New_York:20260901T193000
DTSTAMP:20260422T103007
CREATED:20260320T152901Z
LAST-MODIFIED:20260320T152901Z
UID:10000084-1788282000-1788291000@www.compasspointegolf.com
SUMMARY:Tuesday Night 9/1 NE
DESCRIPTION:Weekly Registration for the Tuesday Night Ladies League.\n \nIncludes:\n\nGreen Fee\nCart Fee\nPrize Fund
URL:https://www.compasspointegolf.com/events/tuesday-night-9-1-ne/
LOCATION:Compass Pointe Golf Courses\, 9010 Fort Smallwood Road\, Pasadena\, Maryland\, 21122
CATEGORIES:Leagues
ATTACH;FMTTYPE=image/jpeg:https://www.compasspointegolf.com/wp-content/uploads/sites/9660/2026/03/RHT-02042026.jpg
END:VEVENT
BEGIN:VEVENT
DTSTART;TZID=America/New_York:20260903T083000
DTEND;TZID=America/New_York:20260903T140000
DTSTAMP:20260422T103007
CREATED:20260326T155530Z
LAST-MODIFIED:20260326T155530Z
UID:10000127-1788424200-1788444000@www.compasspointegolf.com
SUMMARY:Thursday Morning League 9/3 SW
DESCRIPTION:Weekly fee for the Thursday Morning League\nReminders:\n\nPlease make sure names are legible and the scores are totaled.\nPlease turn in scorecards in the golf shop directly after your round.\nPACE OF PLAY: Please keep up with the group in front of you and play ready golf.\nCopy of the league rules can be found here.\n\nIncludes:\n\nGreen Fee\nCart Fee\nPrize Fund\n\n 
URL:https://www.compasspointegolf.com/events/thursday-morning-league-9-3-sw/
LOCATION:Compass Pointe Golf Courses\, 9010 Fort Smallwood Road\, Pasadena\, Maryland\, 21122
CATEGORIES:Leagues
ATTACH;FMTTYPE=image/jpeg:https://www.compasspointegolf.com/wp-content/uploads/sites/9660/2026/03/CP-MD-Logo-1.jpg
END:VEVENT
BEGIN:VEVENT
DTSTART;TZID=America/New_York:20260908T170000
DTEND;TZID=America/New_York:20260908T193000
DTSTAMP:20260422T103007
CREATED:20260320T151251Z
LAST-MODIFIED:20260320T151251Z
UID:10000079-1788886800-1788895800@www.compasspointegolf.com
SUMMARY:Tuesday Night 9/8 SW
DESCRIPTION:Weekly Registration for the Tuesday Night Ladies League.\n \nIncludes:\n\nGreen Fee\nCart Fee\nPrize Fund
URL:https://www.compasspointegolf.com/events/tuesday-night-9-8-sw/
LOCATION:Compass Pointe Golf Courses\, 9010 Fort Smallwood Road\, Pasadena\, Maryland\, 21122
CATEGORIES:Leagues
ATTACH;FMTTYPE=image/jpeg:https://www.compasspointegolf.com/wp-content/uploads/sites/9660/2026/03/RHT-02042026.jpg
END:VEVENT
BEGIN:VEVENT
DTSTART;TZID=America/New_York:20260910T083000
DTEND;TZID=America/New_York:20260910T140000
DTSTAMP:20260422T103007
CREATED:20260326T151419Z
LAST-MODIFIED:20260326T151419Z
UID:10000114-1789029000-1789048800@www.compasspointegolf.com
SUMMARY:Thursday Morning League 9/10 NE
DESCRIPTION:Weekly fee for the Thursday Morning League\nReminders:\n\nPlease make sure names are legible and the scores are totaled.\nPlease turn in scorecards in the golf shop directly after your round.\nPACE OF PLAY: Please keep up with the group in front of you and play ready golf.\nCopy of the league rules can be found here.\n\nIncludes:\n\nGreen Fee\nCart Fee\nPrize Fund\n\n 
URL:https://www.compasspointegolf.com/events/thursday-morning-league-9-10-ne/
LOCATION:Compass Pointe Golf Courses\, 9010 Fort Smallwood Road\, Pasadena\, Maryland\, 21122
CATEGORIES:Leagues
ATTACH;FMTTYPE=image/jpeg:https://www.compasspointegolf.com/wp-content/uploads/sites/9660/2026/03/CP-MD-Logo-1.jpg
END:VEVENT
BEGIN:VEVENT
DTSTART;TZID=America/New_York:20260915T170000
DTEND;TZID=America/New_York:20260915T193000
DTSTAMP:20260422T103007
CREATED:20260320T153125Z
LAST-MODIFIED:20260320T153125Z
UID:10000085-1789491600-1789500600@www.compasspointegolf.com
SUMMARY:Tuesday Night 9/15 NE
DESCRIPTION:Weekly Registration for the Tuesday Night Ladies League.\n \nIncludes:\n\nGreen Fee\nCart Fee\nPrize Fund
URL:https://www.compasspointegolf.com/events/tuesday-night-9-15-ne/
LOCATION:Compass Pointe Golf Courses\, 9010 Fort Smallwood Road\, Pasadena\, Maryland\, 21122
CATEGORIES:Leagues
ATTACH;FMTTYPE=image/jpeg:https://www.compasspointegolf.com/wp-content/uploads/sites/9660/2026/03/RHT-02042026.jpg
END:VEVENT
BEGIN:VEVENT
DTSTART;TZID=America/New_York:20260917T083000
DTEND;TZID=America/New_York:20260917T140000
DTSTAMP:20260422T103007
CREATED:20260326T151542Z
LAST-MODIFIED:20260326T151542Z
UID:10000115-1789633800-1789653600@www.compasspointegolf.com
SUMMARY:Thursday Morning League 9/17 NE
DESCRIPTION:Weekly fee for the Thursday Morning League\nReminders:\n\nPlease make sure names are legible and the scores are totaled.\nPlease turn in scorecards in the golf shop directly after your round.\nPACE OF PLAY: Please keep up with the group in front of you and play ready golf.\nCopy of the league rules can be found here.\n\nIncludes:\n\nGreen Fee\nCart Fee\nPrize Fund\n\n 
URL:https://www.compasspointegolf.com/events/thursday-morning-league-9-17-ne/
LOCATION:Compass Pointe Golf Courses\, 9010 Fort Smallwood Road\, Pasadena\, Maryland\, 21122
CATEGORIES:Leagues
ATTACH;FMTTYPE=image/jpeg:https://www.compasspointegolf.com/wp-content/uploads/sites/9660/2026/03/CP-MD-Logo-1.jpg
END:VEVENT
BEGIN:VEVENT
DTSTART;TZID=America/New_York:20260922T170000
DTEND;TZID=America/New_York:20260922T193000
DTSTAMP:20260422T103008
CREATED:20260320T151803Z
LAST-MODIFIED:20260320T151803Z
UID:10000080-1790096400-1790105400@www.compasspointegolf.com
SUMMARY:Tuesday Night 9/22 SW
DESCRIPTION:Weekly Registration for the Tuesday Night Ladies League.\n \nIncludes:\n\nGreen Fee\nCart Fee\nPrize Fund
URL:https://www.compasspointegolf.com/events/tuesday-night-9-22-sw/
LOCATION:Compass Pointe Golf Courses\, 9010 Fort Smallwood Road\, Pasadena\, Maryland\, 21122
CATEGORIES:Leagues
ATTACH;FMTTYPE=image/jpeg:https://www.compasspointegolf.com/wp-content/uploads/sites/9660/2026/03/RHT-02042026.jpg
END:VEVENT
BEGIN:VEVENT
DTSTART;TZID=America/New_York:20260924T083000
DTEND;TZID=America/New_York:20260924T140000
DTSTAMP:20260422T103008
CREATED:20260326T155625Z
LAST-MODIFIED:20260326T155625Z
UID:10000128-1790238600-1790258400@www.compasspointegolf.com
SUMMARY:Thursday Morning League 9/24 SW
DESCRIPTION:Weekly fee for the Thursday Morning League\nReminders:\n\nPlease make sure names are legible and the scores are totaled.\nPlease turn in scorecards in the golf shop directly after your round.\nPACE OF PLAY: Please keep up with the group in front of you and play ready golf.\nCopy of the league rules can be found here.\n\nIncludes:\n\nGreen Fee\nCart Fee\nPrize Fund\n\n 
URL:https://www.compasspointegolf.com/events/thursday-morning-league-9-24-sw/
LOCATION:Compass Pointe Golf Courses\, 9010 Fort Smallwood Road\, Pasadena\, Maryland\, 21122
CATEGORIES:Leagues
ATTACH;FMTTYPE=image/jpeg:https://www.compasspointegolf.com/wp-content/uploads/sites/9660/2026/03/CP-MD-Logo-1.jpg
END:VEVENT
BEGIN:VEVENT
DTSTART;TZID=America/New_York:20260929T170000
DTEND;TZID=America/New_York:20260929T193000
DTSTAMP:20260422T103008
CREATED:20260320T153521Z
LAST-MODIFIED:20260320T153521Z
UID:10000086-1790701200-1790710200@www.compasspointegolf.com
SUMMARY:Tuesday Night 9/29 NE
DESCRIPTION:Weekly Registration for the Tuesday Night Ladies League.\n \nIncludes:\n\nGreen Fee\nCart Fee\nPrize Fund
URL:https://www.compasspointegolf.com/events/tuesday-night-9-29-ne/
LOCATION:Compass Pointe Golf Courses\, 9010 Fort Smallwood Road\, Pasadena\, Maryland\, 21122
CATEGORIES:Leagues
ATTACH;FMTTYPE=image/jpeg:https://www.compasspointegolf.com/wp-content/uploads/sites/9660/2026/03/RHT-02042026.jpg
END:VEVENT
BEGIN:VEVENT
DTSTART;TZID=America/New_York:20261001T083000
DTEND;TZID=America/New_York:20261001T140000
DTSTAMP:20260422T103008
CREATED:20260326T151649Z
LAST-MODIFIED:20260326T151649Z
UID:10000116-1790843400-1790863200@www.compasspointegolf.com
SUMMARY:Thursday Morning League 10/1 NE
DESCRIPTION:Weekly fee for the Thursday Morning League\nReminders:\n\nPlease make sure names are legible and the scores are totaled.\nPlease turn in scorecards in the golf shop directly after your round.\nPACE OF PLAY: Please keep up with the group in front of you and play ready golf.\nCopy of the league rules can be found here.\n\nIncludes:\n\nGreen Fee\nCart Fee\nPrize Fund\n\n 
URL:https://www.compasspointegolf.com/events/thursday-morning-league-10-1-ne/
LOCATION:Compass Pointe Golf Courses\, 9010 Fort Smallwood Road\, Pasadena\, Maryland\, 21122
CATEGORIES:Leagues
ATTACH;FMTTYPE=image/jpeg:https://www.compasspointegolf.com/wp-content/uploads/sites/9660/2026/03/CP-MD-Logo-1.jpg
END:VEVENT
BEGIN:VEVENT
DTSTART;TZID=America/New_York:20261008T083000
DTEND;TZID=America/New_York:20261008T140000
DTSTAMP:20260422T103008
CREATED:20260326T155731Z
LAST-MODIFIED:20260326T155731Z
UID:10000129-1791448200-1791468000@www.compasspointegolf.com
SUMMARY:Thursday Morning League 10/8 SW
DESCRIPTION:Weekly fee for the Thursday Morning League\nReminders:\n\nPlease make sure names are legible and the scores are totaled.\nPlease turn in scorecards in the golf shop directly after your round.\nPACE OF PLAY: Please keep up with the group in front of you and play ready golf.\nCopy of the league rules can be found here.\n\nIncludes:\n\nGreen Fee\nCart Fee\nPrize Fund\n\n 
URL:https://www.compasspointegolf.com/events/thursday-morning-league-10-8-sw/
LOCATION:Compass Pointe Golf Courses\, 9010 Fort Smallwood Road\, Pasadena\, Maryland\, 21122
CATEGORIES:Leagues
ATTACH;FMTTYPE=image/jpeg:https://www.compasspointegolf.com/wp-content/uploads/sites/9660/2026/03/CP-MD-Logo-1.jpg
END:VEVENT
BEGIN:VEVENT
DTSTART;TZID=America/New_York:20261015T083000
DTEND;TZID=America/New_York:20261015T140000
DTSTAMP:20260422T103008
CREATED:20260326T151736Z
LAST-MODIFIED:20260326T151736Z
UID:10000117-1792053000-1792072800@www.compasspointegolf.com
SUMMARY:Thursday Morning League 10/15 NE
DESCRIPTION:Weekly fee for the Thursday Morning League\nReminders:\n\nPlease make sure names are legible and the scores are totaled.\nPlease turn in scorecards in the golf shop directly after your round.\nPACE OF PLAY: Please keep up with the group in front of you and play ready golf.\nCopy of the league rules can be found here.\n\nIncludes:\n\nGreen Fee\nCart Fee\nPrize Fund\n\n 
URL:https://www.compasspointegolf.com/events/thursday-morning-league-10-15-ne/
LOCATION:Compass Pointe Golf Courses\, 9010 Fort Smallwood Road\, Pasadena\, Maryland\, 21122
CATEGORIES:Leagues
ATTACH;FMTTYPE=image/jpeg:https://www.compasspointegolf.com/wp-content/uploads/sites/9660/2026/03/CP-MD-Logo-1.jpg
END:VEVENT
END:VCALENDAR