BEGIN:VCALENDAR
VERSION:2.0
PRODID:-//Compass Pointe Golf Courses - ECPv6.15.18//NONSGML v1.0//EN
CALSCALE:GREGORIAN
METHOD:PUBLISH
X-ORIGINAL-URL:https://www.compasspointegolf.com
X-WR-CALDESC:Events for Compass Pointe Golf Courses
REFRESH-INTERVAL;VALUE=DURATION:PT1H
X-Robots-Tag:noindex
X-PUBLISHED-TTL:PT1H
BEGIN:VTIMEZONE
TZID:America/New_York
BEGIN:DAYLIGHT
TZOFFSETFROM:-0500
TZOFFSETTO:-0400
TZNAME:EDT
DTSTART:20250309T070000
END:DAYLIGHT
BEGIN:STANDARD
TZOFFSETFROM:-0400
TZOFFSETTO:-0500
TZNAME:EST
DTSTART:20251102T060000
END:STANDARD
BEGIN:DAYLIGHT
TZOFFSETFROM:-0500
TZOFFSETTO:-0400
TZNAME:EDT
DTSTART:20260308T070000
END:DAYLIGHT
BEGIN:STANDARD
TZOFFSETFROM:-0400
TZOFFSETTO:-0500
TZNAME:EST
DTSTART:20261101T060000
END:STANDARD
BEGIN:DAYLIGHT
TZOFFSETFROM:-0500
TZOFFSETTO:-0400
TZNAME:EDT
DTSTART:20270314T070000
END:DAYLIGHT
BEGIN:STANDARD
TZOFFSETFROM:-0400
TZOFFSETTO:-0500
TZNAME:EST
DTSTART:20271107T060000
END:STANDARD
END:VTIMEZONE
BEGIN:VTIMEZONE
TZID:Asia/Dubai
BEGIN:STANDARD
TZOFFSETFROM:+0400
TZOFFSETTO:+0400
TZNAME:+04
DTSTART:20250101T000000
END:STANDARD
END:VTIMEZONE
BEGIN:VTIMEZONE
TZID:UTC
BEGIN:STANDARD
TZOFFSETFROM:+0000
TZOFFSETTO:+0000
TZNAME:UTC
DTSTART:20250101T000000
END:STANDARD
END:VTIMEZONE
BEGIN:VEVENT
DTSTART;TZID=America/New_York:20260427T150000
DTEND;TZID=America/New_York:20260427T190000
DTSTAMP:20260424T151413
CREATED:20260319T195124Z
LAST-MODIFIED:20260319T195124Z
UID:10000059-1777302000-1777316400@www.compasspointegolf.com
SUMMARY:Mizuno Fitting Day
DESCRIPTION:Book your fitting today!\nReminders\n\nTo ensure you have the proper warm up\, please arrive at least 10 minutes before your scheduled time.\nFor the sake of comparison\, be sure to bring your current clubs along with you to the fitting appointment.\nWe look forward to seeing you at our upcoming event!\nAPPOINTMENTS ARE REQUIREDNO WALK UPS ALLOWED\n\nTake a look at Mizuno’s clubs here.
URL:https://www.compasspointegolf.com/events/mizuno-fitting-day/
LOCATION:Compass Pointe Golf Courses\, 9010 Fort Smallwood Road\, Pasadena\, Maryland\, 21122
CATEGORIES:Fitting Day
ATTACH;FMTTYPE=image/png:https://www.compasspointegolf.com/wp-content/uploads/sites/9660/2026/03/M-V2.png
END:VEVENT
BEGIN:VEVENT
DTSTART;TZID=Asia/Dubai:20260427T170000
DTEND;TZID=Asia/Dubai:20260427T193000
DTSTAMP:20260424T151413
CREATED:20260413T193152Z
LAST-MODIFIED:20260413T193624Z
UID:10000144-1777309200-1777318200@www.compasspointegolf.com
SUMMARY:Monday Night Co-Ed League 4/27/26 NE
DESCRIPTION:Weekly fee for the Monday Night Coed League\nReminders:\n\nPlease make sure names are legible and the scores are totaled.\nPlease turn in scorecards in the golf shop directly after your round.\nPACE OF PLAY: Please keep up with the group in front of you and play ready golf.\nCopy of the league rules can be found here.\n\nIncludes:\n\nGreen Fee\nCart Fee\nPrize Fund\n\n\n\n\n\n\n\n\n\n\n\n\n\n\n\n\n 
URL:https://www.compasspointegolf.com/events/monday-night-co-ed-league-4-27-26-ne/
LOCATION:Compass Pointe Golf Courses\, 9010 Fort Smallwood Road\, Pasadena\, Maryland\, 21122
CATEGORIES:Leagues
ATTACH;FMTTYPE=image/jpeg:https://www.compasspointegolf.com/wp-content/uploads/sites/9660/2026/03/CP-MD-Logo-1.jpg
END:VEVENT
BEGIN:VEVENT
DTSTART;TZID=America/New_York:20260428T150000
DTEND;TZID=America/New_York:20260428T193000
DTSTAMP:20260424T151413
CREATED:20260319T195448Z
LAST-MODIFIED:20260319T195558Z
UID:10000055-1777388400-1777404600@www.compasspointegolf.com
SUMMARY:TaylorMade Fitting Day
DESCRIPTION:Click here to book your fitting! \nCustom Fitting\nWhether you’re just starting out\, have played your whole life or you’re a Tour pro\, your swing is like a fingerprint. It’s one of a kind. That’s why crafting the perfect set of golf clubs for your game is the first step towards better golf. However\, it goes beyond performance. It’s about passion.\nWe want you to leave your TaylorMade custom fitting experience feeling inspired\, with a deeper awareness of your game and excited about being better today than you were yesterday. From the moment you unbox your set of personalized clubs\, you’ll be itching to get to the course. We know this because we share that same passion. That’s what it’s like to be a part of #TeamTaylorMade.\n \nExpert TaylorMade Fitters\nA highly trained expert from Team TaylorMade will guide you through the process from start to finish. The fitting will address your present needs such as distance gapping and mis-hit tendencies\, as well as set you up for future success.\nCustom Fitting Tools and Launch Monitor Technology\nCutting edge technology is a part of TaylorMade’s DNA\, and we apply the same innovation mindset to custom fitting. A TaylorMade Fitting Event uses the latest and most advanced fitting tools in the industry\, including state of the art launch monitors\, SelectFit Kit and MyFittingExp. \nMFE\nmyFittingExp is a proprietary TaylorMade app that provides our fitters with all of the necessary information at their fingertips. By signing up for an MFE account\, you’re able to easily schedule a fitting with one of our TaylorMade Fitters. Following the fitting\, you’ll be provided with a reviewable page highlighting all your fitting data and suggested clubs from your personal experience.\nOnline Booking\, Management\, & Ordering\nManaging your fitting has never been easier. Book an event using your TaylorMadegolf.com account and see your recommended clubs ready for purchase\, as well as all shot\, swing\, and club data captured during your fitting.\n\n\n\n\n\n\n\n\n\n\n\n\n\n\n\n 
URL:https://www.compasspointegolf.com/events/taylormade-fitting-day/
LOCATION:Maryland
CATEGORIES:Fitting Day
ATTACH;FMTTYPE=image/jpeg:https://www.compasspointegolf.com/wp-content/uploads/sites/9660/2026/03/TM-V2.jpg
END:VEVENT
BEGIN:VEVENT
DTSTART;TZID=America/New_York:20260428T170000
DTEND;TZID=America/New_York:20260428T193000
DTSTAMP:20260424T151413
CREATED:20260320T135955Z
LAST-MODIFIED:20260320T135955Z
UID:10000063-1777395600-1777404600@www.compasspointegolf.com
SUMMARY:Tuesday Night 4/28 NE
DESCRIPTION:Weekly Registration for the Tuesday Night Ladies League.\n \nIncludes:\n\nGreen Fee\nCart Fee\nPrize Fund
URL:https://www.compasspointegolf.com/events/tuesday-night-4-28-ne/
LOCATION:Compass Pointe Golf Courses\, 9010 Fort Smallwood Road\, Pasadena\, Maryland\, 21122
CATEGORIES:Leagues
ATTACH;FMTTYPE=image/jpeg:https://www.compasspointegolf.com/wp-content/uploads/sites/9660/2026/03/RHT-02042026.jpg
END:VEVENT
BEGIN:VEVENT
DTSTART;TZID=America/New_York:20260429T170000
DTEND;TZID=America/New_York:20260429T193000
DTSTAMP:20260424T151413
CREATED:20260423T151002Z
LAST-MODIFIED:20260423T151006Z
UID:10000150-1777482000-1777491000@www.compasspointegolf.com
SUMMARY:Wednesday Night 4/29 N/E
DESCRIPTION:
URL:https://www.compasspointegolf.com/events/wednesday-night-4-29-n-e/
LOCATION:Compass Pointe Golf Courses\, 9010 Fort Smallwood Road\, Pasadena\, Maryland\, 21122
CATEGORIES:Leagues
END:VEVENT
BEGIN:VEVENT
DTSTART;TZID=UTC:20260430T080000
DTEND;TZID=UTC:20260430T170000
DTSTAMP:20260424T151413
CREATED:20260323T195605Z
LAST-MODIFIED:20260323T195628Z
UID:10000038-1777536000-1777568400@www.compasspointegolf.com
SUMMARY:MISGA Registration
DESCRIPTION:2026 MISGA Registration\n \nIncludes:\n\nMISGA Dues\n2026 GHIN\nDiscounted entry fees for Compass Pointe hosted MISGA events.\n\n  \n2026 MISGA Shirt\n\nGreg Norman Freedom Micro Pique\nColor (Shark Grey)\nCompass Pointe MISGA logo\n\n \n\n\n\n\n\n\n\n\n\n\n\n\n\n\n\n 
URL:https://www.compasspointegolf.com/events/misga-registration-2/
LOCATION:Maryland
END:VEVENT
BEGIN:VEVENT
DTSTART;TZID=America/New_York:20260430T083000
DTEND;TZID=America/New_York:20260430T140000
DTSTAMP:20260424T151413
CREATED:20260326T145731Z
LAST-MODIFIED:20260326T145731Z
UID:10000104-1777537800-1777557600@www.compasspointegolf.com
SUMMARY:Thursday Morning League 4/30 NE
DESCRIPTION:Weekly fee for the Thursday Morning League\nReminders:\n\nPlease make sure names are legible and the scores are totaled.\nPlease turn in scorecards in the golf shop directly after your round.\nPACE OF PLAY: Please keep up with the group in front of you and play ready golf.\nCopy of the league rules can be found here.\n\nIncludes:\n\nGreen Fee\nCart Fee\nPrize Fund\n\n 
URL:https://www.compasspointegolf.com/events/thursday-morning-league-4-30-ne/
LOCATION:Compass Pointe Golf Courses\, 9010 Fort Smallwood Road\, Pasadena\, Maryland\, 21122
CATEGORIES:Leagues
ATTACH;FMTTYPE=image/jpeg:https://www.compasspointegolf.com/wp-content/uploads/sites/9660/2026/03/CP-MD-Logo-1.jpg
END:VEVENT
BEGIN:VEVENT
DTSTART;TZID=America/New_York:20260430T163000
DTEND;TZID=America/New_York:20260430T180000
DTSTAMP:20260424T151413
CREATED:20260422T172956Z
LAST-MODIFIED:20260422T173044Z
UID:10000149-1777566600-1777572000@www.compasspointegolf.com
SUMMARY:Twilight Association 4/30
DESCRIPTION:Weekly Fee for the Twilight Association\nMore information on the Compass Pointe Twilight Association click here. \n\n \n 
URL:https://www.compasspointegolf.com/events/twilight-association-4-30/
LOCATION:Maryland
CATEGORIES:Leagues
ATTACH;FMTTYPE=image/png:https://www.compasspointegolf.com/wp-content/uploads/sites/9660/2026/03/Twilight-GolfTM.png
END:VEVENT
BEGIN:VEVENT
DTSTART;TZID=America/New_York:20260430T170000
DTEND;TZID=America/New_York:20260430T190000
DTSTAMP:20260424T151413
CREATED:20260409T182345Z
LAST-MODIFIED:20260409T182546Z
UID:10000140-1777568400-1777575600@www.compasspointegolf.com
SUMMARY:2-Person League 4/30 NE
DESCRIPTION:Weekly fee for the Thursday Night 2-Person League\nReminders:\n\nPlease make sure names are legible and the scores are totaled.\nPlease turn in scorecards in the golf shop directly after your round.\nPACE OF PLAY: Please keep up with the group in front of you and play ready golf.\nCopy of the league rules can be found here.\n\nIncludes:\n\nGreen Fee\nCart Fee\nPrize Fund\n\n\n\n\n\n\n\n\n\n\n\n \n\n\n\n \n\n\n\n 
URL:https://www.compasspointegolf.com/events/2-person-league-4-30-ne/
LOCATION:Maryland
CATEGORIES:Leagues
ATTACH;FMTTYPE=image/jpeg:https://www.compasspointegolf.com/wp-content/uploads/sites/9660/2026/02/CompassPointe.jpg
END:VEVENT
END:VCALENDAR