BEGIN:VCALENDAR
VERSION:2.0
PRODID:-//Compass Pointe Golf Courses - ECPv6.15.18//NONSGML v1.0//EN
CALSCALE:GREGORIAN
METHOD:PUBLISH
X-ORIGINAL-URL:https://www.compasspointegolf.com
X-WR-CALDESC:Events for Compass Pointe Golf Courses
REFRESH-INTERVAL;VALUE=DURATION:PT1H
X-Robots-Tag:noindex
X-PUBLISHED-TTL:PT1H
BEGIN:VTIMEZONE
TZID:America/New_York
BEGIN:DAYLIGHT
TZOFFSETFROM:-0500
TZOFFSETTO:-0400
TZNAME:EDT
DTSTART:20250309T070000
END:DAYLIGHT
BEGIN:STANDARD
TZOFFSETFROM:-0400
TZOFFSETTO:-0500
TZNAME:EST
DTSTART:20251102T060000
END:STANDARD
BEGIN:DAYLIGHT
TZOFFSETFROM:-0500
TZOFFSETTO:-0400
TZNAME:EDT
DTSTART:20260308T070000
END:DAYLIGHT
BEGIN:STANDARD
TZOFFSETFROM:-0400
TZOFFSETTO:-0500
TZNAME:EST
DTSTART:20261101T060000
END:STANDARD
BEGIN:DAYLIGHT
TZOFFSETFROM:-0500
TZOFFSETTO:-0400
TZNAME:EDT
DTSTART:20270314T070000
END:DAYLIGHT
BEGIN:STANDARD
TZOFFSETFROM:-0400
TZOFFSETTO:-0500
TZNAME:EST
DTSTART:20271107T060000
END:STANDARD
END:VTIMEZONE
BEGIN:VEVENT
DTSTART;TZID=America/New_York:20260414T153000
DTEND;TZID=America/New_York:20260414T170000
DTSTAMP:20260424T162337
CREATED:20260408T131159Z
LAST-MODIFIED:20260408T131159Z
UID:10000134-1776180600-1776186000@www.compasspointegolf.com
SUMMARY:League Welcome
DESCRIPTION:This is for all league members to come out about an hour and a half early to catch up with your groups and the other league members
URL:https://www.compasspointegolf.com/events/league-welcome/2026-04-14/
LOCATION:Maryland
END:VEVENT
BEGIN:VEVENT
DTSTART;TZID=America/New_York:20260414T170000
DTEND;TZID=America/New_York:20260414T193000
DTSTAMP:20260424T162337
CREATED:20260320T134254Z
LAST-MODIFIED:20260414T131027Z
UID:10000061-1776186000-1776195000@www.compasspointegolf.com
SUMMARY:Tuesday Night 4/14 NE
DESCRIPTION:Weekly Registration for the Tuesday Night Ladies League.\n \nIncludes:\n\nGreen Fee\nCart Fee\nPrize Fund
URL:https://www.compasspointegolf.com/events/tuesday-night-4-14-ne/
LOCATION:Compass Pointe Golf Courses\, 9010 Fort Smallwood Road\, Pasadena\, Maryland\, 21122
CATEGORIES:Leagues
ATTACH;FMTTYPE=image/jpeg:https://www.compasspointegolf.com/wp-content/uploads/sites/9660/2026/03/RHT-02042026.jpg
END:VEVENT
END:VCALENDAR